BEGIN:VCALENDAR
VERSION:2.0
PRODID:icalendar-ruby
CALSCALE:GREGORIAN
METHOD:PUBLISH
BEGIN:VEVENT
DTSTAMP:20260420T142728Z
UID:5-398130@amherstunited.tithelysetup5.com
DTSTART:20260809T143000Z
DTEND:20260809T153000Z
CLASS:PUBLIC
CREATED:20260420T083135
DESCRIPTION:Sunday Worship
LAST-MODIFIED:20260420T083135
LOCATION:
SUMMARY:Sunday Worship
URL;VALUE=URI:https://amherstchurches.org/events/sunday-worship/2026-08-09
END:VEVENT
END:VCALENDAR
